BEGIN:VCALENDAR
METHOD:REQUEST
PRODID:-//events.orgNONSGML ical.net 4.0//EN
VERSION:2.0
BEGIN:VEVENT
DTEND;VALUE=DATE:20260723
DTSTAMP:20260422T091420Z
DTSTART;VALUE=DATE:20260723
LOCATION:Scout Bar - Houston\, Houston
ORGANIZER;CN=:mailto:events@events.org
SEQUENCE:0
SUMMARY:The Ex-Faces (18+ Event)
UID:470b7258-7454-4ba7-b1da-2c470c1d2e72
URL:https://events.org/e/The-Ex-Faces-18-Event/4RPI346J
BEGIN:VALARM
ACTION:DISPLAY
SUMMARY:Reminder
TRIGGER:-P1D
END:VALARM
END:VEVENT
END:VCALENDAR
