BEGIN:VCALENDAR
METHOD:REQUEST
PRODID:-//events.orgNONSGML ical.net 4.0//EN
VERSION:2.0
BEGIN:VEVENT
DTEND;VALUE=DATE:20260419
DTSTAMP:20260421T081902Z
DTSTART;VALUE=DATE:20260419
LOCATION:Stage 42\, New York
ORGANIZER;CN=:mailto:events@events.org
SEQUENCE:0
SUMMARY:Gotta Dance!
UID:9475324d-1848-4863-9bf9-1e50cd89d7e8
URL:https://events.org/e/Gotta-Dance/N3D4QDR5
BEGIN:VALARM
ACTION:DISPLAY
SUMMARY:Reminder
TRIGGER:-P1D
END:VALARM
END:VEVENT
END:VCALENDAR
