BEGIN:VCALENDAR
METHOD:REQUEST
PRODID:-//events.orgNONSGML ical.net 4.0//EN
VERSION:2.0
BEGIN:VEVENT
DTEND;VALUE=DATE:20260421
DTSTAMP:20260421T082140Z
DTSTART;VALUE=DATE:20260421
LOCATION:Banksy Museum New York\, New York
ORGANIZER;CN=:mailto:events@events.org
SEQUENCE:0
SUMMARY:The Banksy Museum New York!
UID:ed71306f-1675-4cec-8fa8-04f49b9a9dc8
URL:https://events.org/e/The-Banksy-Museum-New-York/PKP6YU2G
BEGIN:VALARM
ACTION:DISPLAY
SUMMARY:Reminder
TRIGGER:-P1D
END:VALARM
END:VEVENT
END:VCALENDAR
