BEGIN:VCALENDAR
METHOD:REQUEST
PRODID:-//events.orgNONSGML ical.net 4.0//EN
VERSION:2.0
BEGIN:VEVENT
DTEND;VALUE=DATE:20260710
DTSTAMP:20260425T102857Z
DTSTART;VALUE=DATE:20260710
LOCATION:Paradise Rock Club presented by Citizens\, Boston
ORGANIZER;CN=:mailto:events@events.org
SEQUENCE:0
SUMMARY:The Strike Plus Special Guest (18+)
UID:04d90b36-5d63-445f-bd4a-61327a3eace5
URL:https://events.org/e/The-Strike-Plus-Special-Guest-18/BM5HA9MS
BEGIN:VALARM
ACTION:DISPLAY
SUMMARY:Reminder
TRIGGER:-P1D
END:VALARM
END:VEVENT
END:VCALENDAR
