BEGIN:VCALENDAR
METHOD:REQUEST
PRODID:-//events.orgNONSGML ical.net 4.0//EN
VERSION:2.0
BEGIN:VEVENT
DTEND;VALUE=DATE:20260428
DTSTAMP:20260424T081549Z
DTSTART;VALUE=DATE:20260428
LOCATION:Lucille Lortel Theatre\, New York
ORGANIZER;CN=:mailto:events@events.org
SEQUENCE:0
SUMMARY:KENREX: A True Crime Thriller
UID:5dc9ccf8-2849-497c-a3fe-afdad853ba1e
URL:https://events.org/e/KENREX-A-True-Crime-Thriller/HXEIHINC
BEGIN:VALARM
ACTION:DISPLAY
SUMMARY:Reminder
TRIGGER:-P1D
END:VALARM
END:VEVENT
END:VCALENDAR
