BEGIN:VCALENDAR
METHOD:REQUEST
PRODID:-//events.orgNONSGML ical.net 4.0//EN
VERSION:2.0
BEGIN:VEVENT
DTEND;VALUE=DATE:20260502
DTSTAMP:20260425T101614Z
DTSTART;VALUE=DATE:20260502
LOCATION:Music Box\, San Diego
ORGANIZER;CN=:mailto:events@events.org
SEQUENCE:0
SUMMARY:Jacqie Rivera
UID:93079e93-1fdc-4948-a168-f34941611013
URL:https://events.org/e/Jacqie-Rivera/K4JBFINR
BEGIN:VALARM
ACTION:DISPLAY
SUMMARY:Reminder
TRIGGER:-P1D
END:VALARM
END:VEVENT
END:VCALENDAR
