BEGIN:VCALENDAR
METHOD:REQUEST
PRODID:-//events.orgNONSGML ical.net 4.0//EN
VERSION:2.0
BEGIN:VEVENT
DTEND;VALUE=DATE:20260820
DTSTAMP:20260419T130104Z
DTSTART;VALUE=DATE:20260820
LOCATION:Arizona Financial Theatre\, Phoenix
ORGANIZER;CN=:mailto:events@events.org
SEQUENCE:0
SUMMARY:Hermanos Espinoza - LINAJE Tour
UID:71edb4f8-1803-4896-967e-65b9144eee30
URL:https://events.org/e/Hermanos-Espinoza---LINAJE-Tour/6E774UOA
BEGIN:VALARM
ACTION:DISPLAY
SUMMARY:Reminder
TRIGGER:-P1D
END:VALARM
END:VEVENT
END:VCALENDAR
