BEGIN:VCALENDAR
METHOD:REQUEST
PRODID:-//events.orgNONSGML ical.net 4.0//EN
VERSION:2.0
BEGIN:VEVENT
DTEND;VALUE=DATE:20260604
DTSTAMP:20260423T133517Z
DTSTART;VALUE=DATE:20260604
LOCATION:Crescent Ballroom\, Phoenix
ORGANIZER;CN=:mailto:events@events.org
SEQUENCE:0
SUMMARY:KENNY MASON - AMERICAN BULLDAWG TOUR
UID:cf0f9ff5-0c20-4de0-bd8f-5416b33f25ed
URL:https://events.org/e/KENNY-MASON---AMERICAN-BULLDAWG-TOUR/N4N8E7T4
BEGIN:VALARM
ACTION:DISPLAY
SUMMARY:Reminder
TRIGGER:-P1D
END:VALARM
END:VEVENT
END:VCALENDAR
