BEGIN:VCALENDAR
METHOD:REQUEST
PRODID:-//events.orgNONSGML ical.net 4.0//EN
VERSION:2.0
BEGIN:VEVENT
DTEND;VALUE=DATE:20260624
DTSTAMP:20260421T082534Z
DTSTART;VALUE=DATE:20260624
LOCATION:South Side Music Hall\, Dallas
ORGANIZER;CN=:mailto:events@events.org
SEQUENCE:0
SUMMARY:Spite w/ Emmure
UID:c6538c2e-36b6-4729-ab04-14490efeb7d7
URL:https://events.org/e/Spite-w-Emmure/Q4FOEFQ7
BEGIN:VALARM
ACTION:DISPLAY
SUMMARY:Reminder
TRIGGER:-P1D
END:VALARM
END:VEVENT
END:VCALENDAR
