BEGIN:VCALENDAR
METHOD:REQUEST
PRODID:-//events.orgNONSGML ical.net 4.0//EN
VERSION:2.0
BEGIN:VEVENT
DTEND;VALUE=DATE:20260924
DTSTAMP:20260422T130055Z
DTSTART;VALUE=DATE:20260924
LOCATION:Walnut Street Theatre\, Philadelphia
ORGANIZER;CN=:mailto:events@events.org
SEQUENCE:0
SUMMARY:The Addams Family (Touring)
UID:97c8a906-9b51-48c3-98e0-94e5e075c6f2
URL:https://events.org/e/The-Addams-Family-Touring/YHUNAC28
BEGIN:VALARM
ACTION:DISPLAY
SUMMARY:Reminder
TRIGGER:-P1D
END:VALARM
END:VEVENT
END:VCALENDAR
