BEGIN:VCALENDAR
METHOD:REQUEST
PRODID:-//events.orgNONSGML ical.net 4.0//EN
VERSION:2.0
BEGIN:VEVENT
DTEND;VALUE=DATE:20260910
DTSTAMP:20260422T090446Z
DTSTART;VALUE=DATE:20260910
LOCATION:The Fillmore Philadelphia\, Philadelphia
ORGANIZER;CN=:mailto:events@events.org
SEQUENCE:0
SUMMARY:Bilmuri - Kinda Hard Tour
UID:27bba54c-3092-4932-b3e0-8926be5eeec0
URL:https://events.org/e/Bilmuri---Kinda-Hard-Tour/8JOSE5AH
BEGIN:VALARM
ACTION:DISPLAY
SUMMARY:Reminder
TRIGGER:-P1D
END:VALARM
END:VEVENT
END:VCALENDAR
