BEGIN:VCALENDAR
METHOD:REQUEST
PRODID:-//events.orgNONSGML ical.net 4.0//EN
VERSION:2.0
BEGIN:VEVENT
DTEND;VALUE=DATE:20260603
DTSTAMP:20260421T131434Z
DTSTART;VALUE=DATE:20260603
LOCATION:Houston Improv\, Houston
ORGANIZER;CN=:mailto:events@events.org
SEQUENCE:0
SUMMARY:Theodore M.E. Taylor
UID:eedf92d1-e338-462e-8d51-b92e843f7a4b
URL:https://events.org/e/Theodore-ME-Taylor/4N49SCBE
BEGIN:VALARM
ACTION:DISPLAY
SUMMARY:Reminder
TRIGGER:-P1D
END:VALARM
END:VEVENT
END:VCALENDAR
