BEGIN:VCALENDAR
METHOD:REQUEST
PRODID:-//events.orgNONSGML ical.net 4.0//EN
VERSION:2.0
BEGIN:VEVENT
DTEND;VALUE=DATE:20260506
DTSTAMP:20260419T142632Z
DTSTART;VALUE=DATE:20260506
LOCATION:The Comedy Store (Main Room)\, Los Angeles
ORGANIZER;CN=:mailto:events@events.org
SEQUENCE:0
SUMMARY:Matt Rife
UID:ba0592f2-4873-47e1-8b17-9f54459f0f2c
URL:https://events.org/e/Matt-Rife/FSH8QCDE
BEGIN:VALARM
ACTION:DISPLAY
SUMMARY:Reminder
TRIGGER:-P1D
END:VALARM
END:VEVENT
END:VCALENDAR
