BEGIN:VCALENDAR
METHOD:REQUEST
PRODID:-//events.orgNONSGML ical.net 4.0//EN
VERSION:2.0
BEGIN:VEVENT
DTEND;VALUE=DATE:20260502
DTSTAMP:20260419T143200Z
DTSTART;VALUE=DATE:20260502
LOCATION:Taper Auditorium\, Seattle
ORGANIZER;CN=:mailto:events@events.org
SEQUENCE:0
SUMMARY:Seattle Symphony: Xian Conducts Mozart
UID:2de03347-f6b2-40f8-b4d6-091c8d984790
URL:https://events.org/e/Seattle-Symphony-Xian-Conducts-Mozart/YOGBYGC6
BEGIN:VALARM
ACTION:DISPLAY
SUMMARY:Reminder
TRIGGER:-P1D
END:VALARM
END:VEVENT
END:VCALENDAR
