BEGIN:VCALENDAR
METHOD:REQUEST
PRODID:-//events.orgNONSGML ical.net 4.0//EN
VERSION:2.0
BEGIN:VEVENT
DTEND;VALUE=DATE:20260420
DTSTAMP:20260421T082026Z
DTSTART;VALUE=DATE:20260420
LOCATION:Ambassador Theatre\, New York
ORGANIZER;CN=:mailto:events@events.org
SEQUENCE:0
SUMMARY:Chicago
UID:9d420129-9904-4021-9f3c-02efdbd1b6cf
URL:https://events.org/e/Chicago/YEJ93WMG
BEGIN:VALARM
ACTION:DISPLAY
SUMMARY:Reminder
TRIGGER:-P1D
END:VALARM
END:VEVENT
END:VCALENDAR
