BEGIN:VCALENDAR
METHOD:REQUEST
PRODID:-//events.orgNONSGML ical.net 4.0//EN
VERSION:2.0
BEGIN:VEVENT
DTEND;VALUE=DATE:20260630
DTSTAMP:20260421T104641Z
DTSTART;VALUE=DATE:20260630
LOCATION:The Van Buren\, Phoenix
ORGANIZER;CN=:mailto:events@events.org
SEQUENCE:0
SUMMARY:Dance Gavin Dance with Special Guests
UID:6440f18b-7fe1-4580-9506-fd26a549f65e
URL:https://events.org/e/Dance-Gavin-Dance-with-Special-Guests/O8FIBDNR
BEGIN:VALARM
ACTION:DISPLAY
SUMMARY:Reminder
TRIGGER:-P1D
END:VALARM
END:VEVENT
END:VCALENDAR
