BEGIN:VCALENDAR
METHOD:REQUEST
PRODID:-//events.orgNONSGML ical.net 4.0//EN
VERSION:2.0
BEGIN:VEVENT
DTEND;VALUE=DATE:20260425
DTSTAMP:20260422T092133Z
DTSTART;VALUE=DATE:20260425
LOCATION:Marquis Theatre\, New York
ORGANIZER;CN=:mailto:events@events.org
SEQUENCE:0
SUMMARY:Stranger Things: The First Shadow
UID:bdfeb33b-f9f2-4d56-ac5c-2c4f9ebb2051
URL:https://events.org/e/Stranger-Things-The-First-Shadow/YCFGIDU2
BEGIN:VALARM
ACTION:DISPLAY
SUMMARY:Reminder
TRIGGER:-P1D
END:VALARM
END:VEVENT
END:VCALENDAR
