BEGIN:VCALENDAR
METHOD:REQUEST
PRODID:-//events.orgNONSGML ical.net 4.0//EN
VERSION:2.0
BEGIN:VEVENT
DTEND;VALUE=DATE:20260528
DTSTAMP:20260419T143155Z
DTSTART;VALUE=DATE:20260528
LOCATION:Fox Theatre - Atlanta\, Atlanta
ORGANIZER;CN=:mailto:events@events.org
SEQUENCE:0
SUMMARY:Beauty And The Beast (Touring)
UID:a5c2dbde-d1b8-468f-8c9b-5f36cea70111
URL:https://events.org/e/Beauty-And-The-Beast-Touring/PM2YQ6AT
BEGIN:VALARM
ACTION:DISPLAY
SUMMARY:Reminder
TRIGGER:-P1D
END:VALARM
END:VEVENT
END:VCALENDAR
