BEGIN:VCALENDAR
METHOD:REQUEST
PRODID:-//events.orgNONSGML ical.net 4.0//EN
VERSION:2.0
BEGIN:VEVENT
DTEND;VALUE=DATE:20260423
DTSTAMP:20260422T091642Z
DTSTART;VALUE=DATE:20260423
LOCATION:Lucinda's\, New York
ORGANIZER;CN=:mailto:events@events.org
SEQUENCE:0
SUMMARY:FREE TWO STEP INSTRUCTION EVERY THURS 7:30-9
UID:e17a33d3-ee3b-4e86-a099-f31ea48923fa
URL:https://events.org/e/FREE-TWO-STEP-INSTRUCTION-EVERY-THURS-730-9/6X6G6
 28G
BEGIN:VALARM
ACTION:DISPLAY
SUMMARY:Reminder
TRIGGER:-P1D
END:VALARM
END:VEVENT
END:VCALENDAR
