BEGIN:VCALENDAR
METHOD:REQUEST
PRODID:-//events.orgNONSGML ical.net 4.0//EN
VERSION:2.0
BEGIN:VEVENT
DTEND;VALUE=DATE:20260520
DTSTAMP:20260422T090851Z
DTSTART;VALUE=DATE:20260520
LOCATION:The Wiltern\, Los Angeles
ORGANIZER;CN=:mailto:events@events.org
SEQUENCE:0
SUMMARY:City Pop Waves: ANRI LIVE 2026 U.S.A Timely!!
UID:f5adec95-acd6-4d3d-8db4-d0fdbe3c9163
URL:https://events.org/e/City-Pop-Waves-ANRI-LIVE-2026-USA-Timely/KX7DDSCK
BEGIN:VALARM
ACTION:DISPLAY
SUMMARY:Reminder
TRIGGER:-P1D
END:VALARM
END:VEVENT
END:VCALENDAR
