BEGIN:VCALENDAR
METHOD:REQUEST
PRODID:-//events.orgNONSGML ical.net 4.0//EN
VERSION:2.0
BEGIN:VEVENT
DTEND;VALUE=DATE:20260630
DTSTAMP:20260422T092302Z
DTSTART;VALUE=DATE:20260630
LOCATION:T-Mobile Park\, Seattle
ORGANIZER;CN=:mailto:events@events.org
SEQUENCE:0
SUMMARY:Seattle Mariners vs. Los Angeles Angels
UID:765afbaf-3f98-4d66-b836-9321fbd43f4a
URL:https://events.org/e/Seattle-Mariners-vs-Los-Angeles-Angels/BGF7N6BQ
BEGIN:VALARM
ACTION:DISPLAY
SUMMARY:Reminder
TRIGGER:-P1D
END:VALARM
END:VEVENT
END:VCALENDAR
