BEGIN:VCALENDAR
METHOD:REQUEST
PRODID:-//events.orgNONSGML ical.net 4.0//EN
VERSION:2.0
BEGIN:VEVENT
DTEND;VALUE=DATE:20260506
DTSTAMP:20260421T095116Z
DTSTART;VALUE=DATE:20260506
LOCATION:Hollywood Pantages Theatre\, Los Angeles
ORGANIZER;CN=:mailto:events@events.org
SEQUENCE:0
SUMMARY:The Sound of Music (Touring)
UID:51f04206-e1b6-4420-8784-a4327448cf62
URL:https://events.org/e/The-Sound-of-Music-Touring/5G57QD3Y
BEGIN:VALARM
ACTION:DISPLAY
SUMMARY:Reminder
TRIGGER:-P1D
END:VALARM
END:VEVENT
END:VCALENDAR
