BEGIN:VCALENDAR
METHOD:REQUEST
PRODID:-//events.orgNONSGML ical.net 4.0//EN
VERSION:2.0
BEGIN:VEVENT
DTEND;VALUE=DATE:20260614
DTSTAMP:20260421T094952Z
DTSTART;VALUE=DATE:20260614
LOCATION:Stages - Sterling Stage\, Houston
ORGANIZER;CN=:mailto:events@events.org
SEQUENCE:0
SUMMARY:Spamilton: An American Parody
UID:ee8e2c42-2537-4bf3-bfd1-4705b251716c
URL:https://events.org/e/Spamilton-An-American-Parody/JPGRI4XM
BEGIN:VALARM
ACTION:DISPLAY
SUMMARY:Reminder
TRIGGER:-P1D
END:VALARM
END:VEVENT
END:VCALENDAR
