BEGIN:VCALENDAR
METHOD:REQUEST
PRODID:-//events.orgNONSGML ical.net 4.0//EN
VERSION:2.0
BEGIN:VEVENT
DTEND;VALUE=DATE:20260621
DTSTAMP:20260421T082425Z
DTSTART;VALUE=DATE:20260621
LOCATION:Showbox SODO\, Seattle
ORGANIZER;CN=:mailto:events@events.org
SEQUENCE:0
SUMMARY:The Crane Wives w/ Yasmin Williams
UID:43fade9b-541a-4dda-9b6d-7e1b2317bbe1
URL:https://events.org/e/The-Crane-Wives-w-Yasmin-Williams/7JVAKXTG
BEGIN:VALARM
ACTION:DISPLAY
SUMMARY:Reminder
TRIGGER:-P1D
END:VALARM
END:VEVENT
END:VCALENDAR
