BEGIN:VCALENDAR
METHOD:REQUEST
PRODID:-//events.orgNONSGML ical.net 4.0//EN
VERSION:2.0
BEGIN:VEVENT
DTEND;VALUE=DATE:20260423
DTSTAMP:20260422T091637Z
DTSTART;VALUE=DATE:20260423
LOCATION:Minskoff Theatre\, New York
ORGANIZER;CN=:mailto:events@events.org
SEQUENCE:0
SUMMARY:The Lion King (New York\, NY)
UID:dc3378c9-c579-4d5b-aeda-18b633807363
URL:https://events.org/e/The-Lion-King-New-York-NY/VFT2GXIA
BEGIN:VALARM
ACTION:DISPLAY
SUMMARY:Reminder
TRIGGER:-P1D
END:VALARM
END:VEVENT
END:VCALENDAR
