BEGIN:VCALENDAR
METHOD:REQUEST
PRODID:-//events.orgNONSGML ical.net 4.0//EN
VERSION:2.0
BEGIN:VEVENT
DTEND;VALUE=DATE:20260719
DTSTAMP:20260421T103900Z
DTSTART;VALUE=DATE:20260719
LOCATION:The Shelter\, Detroit
ORGANIZER;CN=:mailto:events@events.org
SEQUENCE:0
SUMMARY:ford. (live) - music lights color tour
UID:b910e1a0-f7f9-4ed0-a301-130480018eee
URL:https://events.org/e/ford-live---music-lights-color-tour/793P8JEH
BEGIN:VALARM
ACTION:DISPLAY
SUMMARY:Reminder
TRIGGER:-P1D
END:VALARM
END:VEVENT
END:VCALENDAR
