BEGIN:VCALENDAR
METHOD:REQUEST
PRODID:-//events.orgNONSGML ical.net 4.0//EN
VERSION:2.0
BEGIN:VEVENT
DTEND;VALUE=DATE:20260809
DTSTAMP:20260424T092725Z
DTSTART;VALUE=DATE:20260809
LOCATION:Punch Line Philly\, Philadelphia
ORGANIZER;CN=:mailto:events@events.org
SEQUENCE:0
SUMMARY:Marcus D. Wiley
UID:d26fd20e-b535-481a-b4b3-5367c0be3664
URL:https://events.org/e/Marcus-D-Wiley/HYKNV9NH
BEGIN:VALARM
ACTION:DISPLAY
SUMMARY:Reminder
TRIGGER:-P1D
END:VALARM
END:VEVENT
END:VCALENDAR
