BEGIN:VCALENDAR
METHOD:REQUEST
PRODID:-//events.orgNONSGML ical.net 4.0//EN
VERSION:2.0
BEGIN:VEVENT
DTEND;VALUE=DATE:20260719
DTSTAMP:20260422T090238Z
DTSTART;VALUE=DATE:20260719
LOCATION:Hobby Center\, Houston
ORGANIZER;CN=:mailto:events@events.org
SEQUENCE:0
SUMMARY:Moulin Rouge! The Musical (Touring)
UID:b192ca4a-0452-42d2-9e66-b1ff28b645b1
URL:https://events.org/e/Moulin-Rouge-The-Musical-Touring/IQSJFMYQ
BEGIN:VALARM
ACTION:DISPLAY
SUMMARY:Reminder
TRIGGER:-P1D
END:VALARM
END:VEVENT
END:VCALENDAR
