BEGIN:VCALENDAR
METHOD:REQUEST
PRODID:-//events.orgNONSGML ical.net 4.0//EN
VERSION:2.0
BEGIN:VEVENT
DTEND;VALUE=DATE:20261028
DTSTAMP:20260423T133816Z
DTSTART;VALUE=DATE:20261028
LOCATION:Nu Stadium\, Miami
ORGANIZER;CN=:mailto:events@events.org
SEQUENCE:0
SUMMARY:Inter Miami CF vs FC Cincinnati
UID:3bf33ad2-77ab-4857-9484-7362384cd217
URL:https://events.org/e/Inter-Miami-CF-vs-FC-Cincinnati/Y85D32XP
BEGIN:VALARM
ACTION:DISPLAY
SUMMARY:Reminder
TRIGGER:-P1D
END:VALARM
END:VEVENT
END:VCALENDAR
