BEGIN:VCALENDAR
METHOD:REQUEST
PRODID:-//events.orgNONSGML ical.net 4.0//EN
VERSION:2.0
BEGIN:VEVENT
DTEND;VALUE=DATE:20260511
DTSTAMP:20260423T133026Z
DTSTART;VALUE=DATE:20260511
LOCATION:Nikki Lopez Philly\, Philadelphia
ORGANIZER;CN=:mailto:events@events.org
SEQUENCE:0
SUMMARY:Christy Costello \, Goshupon
UID:9b275e00-b206-4d02-ac49-392c8d586610
URL:https://events.org/e/Christy-Costello-Goshupon/K7CAE84U
BEGIN:VALARM
ACTION:DISPLAY
SUMMARY:Reminder
TRIGGER:-P1D
END:VALARM
END:VEVENT
END:VCALENDAR
