BEGIN:VCALENDAR
METHOD:REQUEST
PRODID:-//events.orgNONSGML ical.net 4.0//EN
VERSION:2.0
BEGIN:VEVENT
DTEND;VALUE=DATE:20260508
DTSTAMP:20260424T081036Z
DTSTART;VALUE=DATE:20260508
LOCATION:South Side Studios\, Dallas
ORGANIZER;CN=:mailto:events@events.org
SEQUENCE:0
SUMMARY:Balloon Museum | Let's Fly - Art Has No Limits - Dallas
UID:1532109a-f082-44c4-8dc9-6d9977c4e7d7
URL:https://events.org/e/Balloon-Museum-Lets-Fly---Art-Has-No-Limits--/8GH
 92C6G
BEGIN:VALARM
ACTION:DISPLAY
SUMMARY:Reminder
TRIGGER:-P1D
END:VALARM
END:VEVENT
END:VCALENDAR
