BEGIN:VCALENDAR
METHOD:REQUEST
PRODID:-//events.orgNONSGML ical.net 4.0//EN
VERSION:2.0
BEGIN:VEVENT
DTEND;VALUE=DATE:20260701
DTSTAMP:20260419T142453Z
DTSTART;VALUE=DATE:20260701
LOCATION:Leader Bank Pavilion\, Boston
ORGANIZER;CN=:mailto:events@events.org
SEQUENCE:0
SUMMARY:An Evening With Goose
UID:acada49d-ddcf-4862-8e0c-027c1cb6ab5f
URL:https://events.org/e/An-Evening-With-Goose/U56H9OL8
BEGIN:VALARM
ACTION:DISPLAY
SUMMARY:Reminder
TRIGGER:-P1D
END:VALARM
END:VEVENT
END:VCALENDAR
