BEGIN:VCALENDAR
METHOD:REQUEST
PRODID:-//events.orgNONSGML ical.net 4.0//EN
VERSION:2.0
BEGIN:VEVENT
DTEND;VALUE=DATE:20260426
DTSTAMP:20260423T132906Z
DTSTART;VALUE=DATE:20260426
LOCATION:Hollywood Pantages Theatre\, Los Angeles
ORGANIZER;CN=:mailto:events@events.org
SEQUENCE:0
SUMMARY:MJ (Touring)
UID:b486653e-bfea-451f-8bdf-3fc7d6e3606b
URL:https://events.org/e/MJ-Touring/FGVFDV5J
BEGIN:VALARM
ACTION:DISPLAY
SUMMARY:Reminder
TRIGGER:-P1D
END:VALARM
END:VEVENT
END:VCALENDAR
