BEGIN:VCALENDAR
METHOD:REQUEST
PRODID:-//events.orgNONSGML ical.net 4.0//EN
VERSION:2.0
BEGIN:VEVENT
DTEND;VALUE=DATE:20260508
DTSTAMP:20260423T133632Z
DTSTART;VALUE=DATE:20260508
LOCATION:Orpheum Theatre\, Los Angeles
ORGANIZER;CN=:mailto:events@events.org
SEQUENCE:0
SUMMARY:Netflix Is A Joke Presents: Max Amini
UID:1720d017-82c3-4c6a-bbdb-e18c7e1f9786
URL:https://events.org/e/Netflix-Is-A-Joke-Presents-Max-Amini/G7M85YP3
BEGIN:VALARM
ACTION:DISPLAY
SUMMARY:Reminder
TRIGGER:-P1D
END:VALARM
END:VEVENT
END:VCALENDAR
