BEGIN:VCALENDAR
METHOD:REQUEST
PRODID:-//events.orgNONSGML ical.net 4.0//EN
VERSION:2.0
BEGIN:VEVENT
DTEND;VALUE=DATE:20260519
DTSTAMP:20260422T090842Z
DTSTART;VALUE=DATE:20260519
LOCATION:Los Angeles Memorial Coliseum\, Los Angeles
ORGANIZER;CN=:mailto:events@events.org
SEQUENCE:0
SUMMARY:Los Angeles Coliseum Historic Tours
UID:c2804e61-24d0-4b52-a051-869312d096e4
URL:https://events.org/e/Los-Angeles-Coliseum-Historic-Tours/JJ8PCVCJ
BEGIN:VALARM
ACTION:DISPLAY
SUMMARY:Reminder
TRIGGER:-P1D
END:VALARM
END:VEVENT
END:VCALENDAR
