BEGIN:VCALENDAR
METHOD:REQUEST
PRODID:-//events.orgNONSGML ical.net 4.0//EN
VERSION:2.0
BEGIN:VEVENT
DTEND;VALUE=DATE:20260627
DTSTAMP:20260421T104310Z
DTSTART;VALUE=DATE:20260627
LOCATION:Mission Ballroom\, Denver
ORGANIZER;CN=:mailto:events@events.org
SEQUENCE:0
SUMMARY:Elderbrook (16 and Over)
UID:6a5c53eb-a70e-4201-81be-5e3e0bad9bca
URL:https://events.org/e/Elderbrook-16-and-Over/TGUA5IOQ
BEGIN:VALARM
ACTION:DISPLAY
SUMMARY:Reminder
TRIGGER:-P1D
END:VALARM
END:VEVENT
END:VCALENDAR
