BEGIN:VCALENDAR
METHOD:REQUEST
PRODID:-//events.orgNONSGML ical.net 4.0//EN
VERSION:2.0
BEGIN:VEVENT
DTEND;VALUE=DATE:20260613
DTSTAMP:20260419T143041Z
DTSTART;VALUE=DATE:20260613
LOCATION:Alley Theatre-Hubbard Stage\, Houston
ORGANIZER;CN=:mailto:events@events.org
SEQUENCE:0
SUMMARY:Misery
UID:7c17661a-3668-4373-97b2-b12cbea4cf98
URL:https://events.org/e/Misery/IEMEA34Y
BEGIN:VALARM
ACTION:DISPLAY
SUMMARY:Reminder
TRIGGER:-P1D
END:VALARM
END:VEVENT
END:VCALENDAR
