BEGIN:VCALENDAR
METHOD:REQUEST
PRODID:-//events.orgNONSGML ical.net 4.0//EN
VERSION:2.0
BEGIN:VEVENT
DTEND;VALUE=DATE:20260714
DTSTAMP:20260421T104115Z
DTSTART;VALUE=DATE:20260714
LOCATION:Summit Music Hall\, Denver
ORGANIZER;CN=:mailto:events@events.org
SEQUENCE:0
SUMMARY:Hatebreed: SUMMER SLAUGHTER TOUR 2026
UID:6307288c-fb1b-46ac-a910-dfd3ac747260
URL:https://events.org/e/Hatebreed-SUMMER-SLAUGHTER-TOUR-2026/FKM2QQ76
BEGIN:VALARM
ACTION:DISPLAY
SUMMARY:Reminder
TRIGGER:-P1D
END:VALARM
END:VEVENT
END:VCALENDAR
