BEGIN:VCALENDAR
METHOD:REQUEST
PRODID:-//events.orgNONSGML ical.net 4.0//EN
VERSION:2.0
BEGIN:VEVENT
DTEND;VALUE=DATE:20260718
DTSTAMP:20260421T103900Z
DTSTART;VALUE=DATE:20260718
LOCATION:The Aretha Franklin Amphitheatre\, Detroit
ORGANIZER;CN=:mailto:events@events.org
SEQUENCE:0
SUMMARY:Southern Soul on The River
UID:72629599-509e-4148-94ea-aef6b7828100
URL:https://events.org/e/Southern-Soul-on-The-River/24GC5YCH
BEGIN:VALARM
ACTION:DISPLAY
SUMMARY:Reminder
TRIGGER:-P1D
END:VALARM
END:VEVENT
END:VCALENDAR
