BEGIN:VCALENDAR
METHOD:REQUEST
PRODID:-//events.orgNONSGML ical.net 4.0//EN
VERSION:2.0
BEGIN:VEVENT
DTEND;VALUE=DATE:20260424
DTSTAMP:20260422T090809Z
DTSTART;VALUE=DATE:20260424
LOCATION:Ethel Barrymore Theatre\, New York
ORGANIZER;CN=:mailto:events@events.org
SEQUENCE:0
SUMMARY:Joe Turner's Come and Gone
UID:50d696d6-66f5-4358-9fc0-9334842890d5
URL:https://events.org/e/Joe-Turners-Come-and-Gone/V5LHNUU3
BEGIN:VALARM
ACTION:DISPLAY
SUMMARY:Reminder
TRIGGER:-P1D
END:VALARM
END:VEVENT
END:VCALENDAR
