BEGIN:VCALENDAR
METHOD:REQUEST
PRODID:-//events.orgNONSGML ical.net 4.0//EN
VERSION:2.0
BEGIN:VEVENT
DTEND;VALUE=DATE:20261031
DTSTAMP:20260424T085858Z
DTSTART;VALUE=DATE:20261031
LOCATION:Majestic Theatre Dallas\, Dallas
ORGANIZER;CN=:mailto:events@events.org
SEQUENCE:0
SUMMARY:PJ Morton - Saturday Night Sunday Morning Tour
UID:b2063da6-0208-497c-9ddf-8a01d4097f18
URL:https://events.org/e/PJ-Morton---Saturday-Night-Sunday-Morning-Tour/E2
 PQ5PVU
BEGIN:VALARM
ACTION:DISPLAY
SUMMARY:Reminder
TRIGGER:-P1D
END:VALARM
END:VEVENT
END:VCALENDAR
