BEGIN:VCALENDAR
METHOD:REQUEST
PRODID:-//events.orgNONSGML ical.net 4.0//EN
VERSION:2.0
BEGIN:VEVENT
DTEND;VALUE=DATE:20261030
DTSTAMP:20260422T091503Z
DTSTART;VALUE=DATE:20261030
LOCATION:Benchmark International Arena\, Tampa
ORGANIZER;CN=:mailto:events@events.org
SEQUENCE:0
SUMMARY:Chayanne - Bailemos Otra Vez Tour
UID:f85071c4-da58-49ef-afe7-7f74c7301356
URL:https://events.org/e/Chayanne---Bailemos-Otra-Vez-Tour/67NO4A6H
BEGIN:VALARM
ACTION:DISPLAY
SUMMARY:Reminder
TRIGGER:-P1D
END:VALARM
END:VEVENT
END:VCALENDAR
