BEGIN:VCALENDAR
METHOD:REQUEST
PRODID:-//events.orgNONSGML ical.net 4.0//EN
VERSION:2.0
BEGIN:VEVENT
DTEND;VALUE=DATE:20260529
DTSTAMP:20260421T165916Z
DTSTART;VALUE=DATE:20260529
LOCATION:Majestic Theatre Dallas\, Dallas
ORGANIZER;CN=:mailto:events@events.org
SEQUENCE:0
SUMMARY:Pour Minds Podcast: Still Sippin' Tour
UID:6633f3be-f1c2-4df9-8c85-1add145379a5
URL:https://events.org/e/Pour-Minds-Podcast-Still-Sippin-Tour/VUYMG8V6
BEGIN:VALARM
ACTION:DISPLAY
SUMMARY:Reminder
TRIGGER:-P1D
END:VALARM
END:VEVENT
END:VCALENDAR
