BEGIN:VCALENDAR
METHOD:REQUEST
PRODID:-//events.orgNONSGML ical.net 4.0//EN
VERSION:2.0
BEGIN:VEVENT
DTEND;VALUE=DATE:20260517
DTSTAMP:20260422T091347Z
DTSTART;VALUE=DATE:20260517
LOCATION:The Peppermint Club\, Los Angeles
ORGANIZER;CN=:mailto:events@events.org
SEQUENCE:0
SUMMARY:MAJOR.
UID:06f1fa26-c653-4a12-a4d1-7ad0297107f7
URL:https://events.org/e/MAJOR/XCWC5BFC
BEGIN:VALARM
ACTION:DISPLAY
SUMMARY:Reminder
TRIGGER:-P1D
END:VALARM
END:VEVENT
END:VCALENDAR
