BEGIN:VCALENDAR
METHOD:REQUEST
PRODID:-//events.orgNONSGML ical.net 4.0//EN
VERSION:2.0
BEGIN:VEVENT
DTEND;VALUE=DATE:20260425
DTSTAMP:20260419T165102Z
DTSTART;VALUE=DATE:20260425
LOCATION:Chicago Shakespeare Theater\, Chicago
ORGANIZER;CN=:mailto:events@events.org
SEQUENCE:0
SUMMARY:Mrs. Krishnan's Party
UID:ac8c4f4c-3e94-4f27-82dd-d38c3a7152bd
URL:https://events.org/e/Mrs-Krishnans-Party/HXFA7RGF
BEGIN:VALARM
ACTION:DISPLAY
SUMMARY:Reminder
TRIGGER:-P1D
END:VALARM
END:VEVENT
END:VCALENDAR
