BEGIN:VCALENDAR
METHOD:REQUEST
PRODID:-//events.orgNONSGML ical.net 4.0//EN
VERSION:2.0
BEGIN:VEVENT
DTEND;VALUE=DATE:20260626
DTSTAMP:20260421T082048Z
DTSTART;VALUE=DATE:20260626
LOCATION:Variety Playhouse\, Atlanta
ORGANIZER;CN=:mailto:events@events.org
SEQUENCE:0
SUMMARY:The Reflex and Lovesong: Tributes to Duran Duran and The Cure
UID:e106036d-e084-46f2-ab90-25c998bae97c
URL:https://events.org/e/The-Reflex-and-Lovesong-Tributes-to-Duran-Dur/SG6
 RVNYK
BEGIN:VALARM
ACTION:DISPLAY
SUMMARY:Reminder
TRIGGER:-P1D
END:VALARM
END:VEVENT
END:VCALENDAR
