BEGIN:VCALENDAR
METHOD:REQUEST
PRODID:-//events.orgNONSGML ical.net 4.0//EN
VERSION:2.0
BEGIN:VEVENT
DTEND;VALUE=DATE:20260926
DTSTAMP:20260419T154651Z
DTSTART;VALUE=DATE:20260926
LOCATION:Gerald Ford Stadium\, Dallas
ORGANIZER;CN=:mailto:events@events.org
SEQUENCE:0
SUMMARY:SMU Mustangs Football vs. Missouri State Bears Football
UID:38268c95-815e-48f4-9f20-9b4d5a3f09c9
URL:https://events.org/e/SMU-Mustangs-Football-vs-Missouri-State-Bears/C3W
 WMD8P
BEGIN:VALARM
ACTION:DISPLAY
SUMMARY:Reminder
TRIGGER:-P1D
END:VALARM
END:VEVENT
END:VCALENDAR
