BEGIN:VCALENDAR
METHOD:REQUEST
PRODID:-//events.orgNONSGML ical.net 4.0//EN
VERSION:2.0
BEGIN:VEVENT
DTEND;VALUE=DATE:20260615
DTSTAMP:20260423T134305Z
DTSTART;VALUE=DATE:20260615
LOCATION:Daikin Park\, Houston
ORGANIZER;CN=:mailto:events@events.org
SEQUENCE:0
SUMMARY:Houston Astros vs Detroit Tigers: City Connect Monday
UID:e98f6373-06fe-48d0-a733-89515140722d
URL:https://events.org/e/Houston-Astros-vs-Detroit-Tigers-City-Connect/GBS
 88AEL
BEGIN:VALARM
ACTION:DISPLAY
SUMMARY:Reminder
TRIGGER:-P1D
END:VALARM
END:VEVENT
END:VCALENDAR
