BEGIN:VCALENDAR
METHOD:REQUEST
PRODID:-//events.orgNONSGML ical.net 4.0//EN
VERSION:2.0
BEGIN:VEVENT
DTEND;VALUE=DATE:20260627
DTSTAMP:20260422T090954Z
DTSTART;VALUE=DATE:20260627
LOCATION:The Chapel\, San Francisco
ORGANIZER;CN=:mailto:events@events.org
SEQUENCE:0
SUMMARY:Fleetwood Macrame
UID:0e622665-203c-4c49-8659-79d3a578f847
URL:https://events.org/e/Fleetwood-Macrame/PLPHVK6Q
BEGIN:VALARM
ACTION:DISPLAY
SUMMARY:Reminder
TRIGGER:-P1D
END:VALARM
END:VEVENT
END:VCALENDAR
