BEGIN:VCALENDAR
METHOD:REQUEST
PRODID:-//events.orgNONSGML ical.net 4.0//EN
VERSION:2.0
BEGIN:VEVENT
DTEND;VALUE=DATE:20261025
DTSTAMP:20260422T084651Z
DTSTART;VALUE=DATE:20261025
LOCATION:The Anthem\, Washington
ORGANIZER;CN=:mailto:events@events.org
SEQUENCE:0
SUMMARY:Beck - RIDE LONESOME TOUR
UID:cf8967b7-07fa-4341-b7f5-ad717d4d0a81
URL:https://events.org/e/Beck---RIDE-LONESOME-TOUR/GP7PT2A6
BEGIN:VALARM
ACTION:DISPLAY
SUMMARY:Reminder
TRIGGER:-P1D
END:VALARM
END:VEVENT
END:VCALENDAR
